BEGIN:VCALENDAR
VERSION:2.0
PRODID:-//Crowmarsh Parish Council//Meeting Calendar//EN
CALSCALE:GREGORIAN
METHOD:PUBLISH
BEGIN:VEVENT
UID:70750-2020-02-06@crowmarshparishcouncil.gov.uk
DTSTAMP:20260421T003608Z
DTSTART;VALUE=DATE:2020-02-06
DTEND;VALUE=DATE:20200207
SUMMARY:Council Meeting &#8211\\; 6 February 2020
DESCRIPTION:Council Meeting\nView details: https://crowmarshparishcouncil.gov.uk/meetings/council-meeting-6-february-2020/
URL:https://crowmarshparishcouncil.gov.uk/meetings/council-meeting-6-february-2020/
END:VEVENT
END:VCALENDAR
