BEGIN:VCALENDAR
VERSION:2.0
PRODID:-//Crowmarsh Parish Council//Meeting Calendar//EN
CALSCALE:GREGORIAN
METHOD:PUBLISH
BEGIN:VEVENT
UID:70749-2020-03-05@crowmarshparishcouncil.gov.uk
DTSTAMP:20260421T003046Z
DTSTART;VALUE=DATE:2020-03-05
DTEND;VALUE=DATE:20200306
SUMMARY:Council Meeting &#8211\\; 5 March 2020
DESCRIPTION:Council Meeting\nView details: https://crowmarshparishcouncil.gov.uk/meetings/council-meeting-5-march-2020/
URL:https://crowmarshparishcouncil.gov.uk/meetings/council-meeting-5-march-2020/
END:VEVENT
END:VCALENDAR
