BEGIN:VCALENDAR
VERSION:2.0
PRODID:-//Crowmarsh Parish Council//Meeting Calendar//EN
CALSCALE:GREGORIAN
METHOD:PUBLISH
BEGIN:VEVENT
UID:70748-2020-04-02@crowmarshparishcouncil.gov.uk
DTSTAMP:20260421T003608Z
DTSTART;VALUE=DATE:2020-04-02
DTEND;VALUE=DATE:20200403
SUMMARY:Council Meeting &#8211\\; 2 April 2020
DESCRIPTION:Council Meeting\nView details: https://crowmarshparishcouncil.gov.uk/meetings/council-meeting-2-april-2020/
URL:https://crowmarshparishcouncil.gov.uk/meetings/council-meeting-2-april-2020/
END:VEVENT
END:VCALENDAR
