BEGIN:VCALENDAR
VERSION:2.0
PRODID:-//Crowmarsh Parish Council//Meeting Calendar//EN
CALSCALE:GREGORIAN
METHOD:PUBLISH
BEGIN:VEVENT
UID:70747-2020-05-07@crowmarshparishcouncil.gov.uk
DTSTAMP:20260421T021122Z
DTSTART;VALUE=DATE:2020-05-07
DTEND;VALUE=DATE:20200508
SUMMARY:Council Meeting &#8211\\; 7 May 2020
DESCRIPTION:Council Meeting\nView details: https://crowmarshparishcouncil.gov.uk/meetings/council-meeting-7-may-2020/
URL:https://crowmarshparishcouncil.gov.uk/meetings/council-meeting-7-may-2020/
END:VEVENT
END:VCALENDAR
