BEGIN:VCALENDAR
VERSION:2.0
PRODID:-//Crowmarsh Parish Council//Meeting Calendar//EN
CALSCALE:GREGORIAN
METHOD:PUBLISH
BEGIN:VEVENT
UID:70745-2020-07-02@crowmarshparishcouncil.gov.uk
DTSTAMP:20260421T021116Z
DTSTART;VALUE=DATE:2020-07-02
DTEND;VALUE=DATE:20200703
SUMMARY:Council Meeting &#8211\\; 2 July 2020
DESCRIPTION:Council Meeting\nView details: https://crowmarshparishcouncil.gov.uk/meetings/council-meeting-2-july-2020/
URL:https://crowmarshparishcouncil.gov.uk/meetings/council-meeting-2-july-2020/
END:VEVENT
END:VCALENDAR
