BEGIN:VCALENDAR
VERSION:2.0
PRODID:-//Crowmarsh Parish Council//Meeting Calendar//EN
CALSCALE:GREGORIAN
METHOD:PUBLISH
BEGIN:VEVENT
UID:70744-2020-08-06@crowmarshparishcouncil.gov.uk
DTSTAMP:20260421T021122Z
DTSTART;VALUE=DATE:2020-08-06
DTEND;VALUE=DATE:20200807
SUMMARY:Council Meeting &#8211\\; 6 August 2020
DESCRIPTION:Council Meeting\nView details: https://crowmarshparishcouncil.gov.uk/meetings/council-meeting-6-august-2020/
URL:https://crowmarshparishcouncil.gov.uk/meetings/council-meeting-6-august-2020/
END:VEVENT
END:VCALENDAR
