BEGIN:VCALENDAR
VERSION:2.0
PRODID:-//Crowmarsh Parish Council//Meeting Calendar//EN
CALSCALE:GREGORIAN
METHOD:PUBLISH
BEGIN:VEVENT
UID:70743-2020-09-03@crowmarshparishcouncil.gov.uk
DTSTAMP:20260421T032907Z
DTSTART;VALUE=DATE:2020-09-03
DTEND;VALUE=DATE:20200904
SUMMARY:Council Meeting &#8211\\; 3 September 2020
DESCRIPTION:Council Meeting\nView details: https://crowmarshparishcouncil.gov.uk/meetings/council-meeting-3-september-2020/
URL:https://crowmarshparishcouncil.gov.uk/meetings/council-meeting-3-september-2020/
END:VEVENT
END:VCALENDAR
