BEGIN:VCALENDAR
VERSION:2.0
PRODID:-//Crowmarsh Parish Council//Meeting Calendar//EN
CALSCALE:GREGORIAN
METHOD:PUBLISH
BEGIN:VEVENT
UID:70742-2020-10-01@crowmarshparishcouncil.gov.uk
DTSTAMP:20260421T032836Z
DTSTART;VALUE=DATE:2020-10-01
DTEND;VALUE=DATE:20201002
SUMMARY:Council Meeting &#8211\\; 1 October 2020
DESCRIPTION:Council Meeting\nView details: https://crowmarshparishcouncil.gov.uk/meetings/council-meeting-1-october-2020/
URL:https://crowmarshparishcouncil.gov.uk/meetings/council-meeting-1-october-2020/
END:VEVENT
END:VCALENDAR
