BEGIN:VCALENDAR
VERSION:2.0
PRODID:-//Crowmarsh Parish Council//Meeting Calendar//EN
CALSCALE:GREGORIAN
METHOD:PUBLISH
BEGIN:VEVENT
UID:70741-2020-11-05@crowmarshparishcouncil.gov.uk
DTSTAMP:20260421T033824Z
DTSTART;VALUE=DATE:2020-11-05
DTEND;VALUE=DATE:20201106
SUMMARY:Council Meeting &#8211\\; 5 November 2020
DESCRIPTION:Council Meeting\nView details: https://crowmarshparishcouncil.gov.uk/meetings/council-meeting-5-november-2020/
URL:https://crowmarshparishcouncil.gov.uk/meetings/council-meeting-5-november-2020/
END:VEVENT
END:VCALENDAR
