BEGIN:VCALENDAR
VERSION:2.0
PRODID:-//Crowmarsh Parish Council//Meeting Calendar//EN
CALSCALE:GREGORIAN
METHOD:PUBLISH
BEGIN:VEVENT
UID:70740-2020-12-10@crowmarshparishcouncil.gov.uk
DTSTAMP:20260421T033824Z
DTSTART;VALUE=DATE:2020-12-10
DTEND;VALUE=DATE:20201211
SUMMARY:Council Meeting &#8211\\; 10 December 2020
DESCRIPTION:Council Meeting\nView details: https://crowmarshparishcouncil.gov.uk/meetings/council-meeting-10-december-2020/
URL:https://crowmarshparishcouncil.gov.uk/meetings/council-meeting-10-december-2020/
END:VEVENT
END:VCALENDAR
