BEGIN:VCALENDAR
VERSION:2.0
PRODID:-//Crowmarsh Parish Council//Meeting Calendar//EN
CALSCALE:GREGORIAN
METHOD:PUBLISH
BEGIN:VEVENT
UID:70739-2021-01-14@crowmarshparishcouncil.gov.uk
DTSTAMP:20260421T045836Z
DTSTART;VALUE=DATE:2021-01-14
DTEND;VALUE=DATE:20210115
SUMMARY:Council Meeting &#8211\\; 14 January 2021
DESCRIPTION:Council Meeting\nView details: https://crowmarshparishcouncil.gov.uk/meetings/council-meeting-14-january-2021/
URL:https://crowmarshparishcouncil.gov.uk/meetings/council-meeting-14-january-2021/
END:VEVENT
END:VCALENDAR
