BEGIN:VCALENDAR
VERSION:2.0
PRODID:-//Crowmarsh Parish Council//Meeting Calendar//EN
CALSCALE:GREGORIAN
METHOD:PUBLISH
BEGIN:VEVENT
UID:70738-2021-02-04@crowmarshparishcouncil.gov.uk
DTSTAMP:20260421T045825Z
DTSTART;VALUE=DATE:2021-02-04
DTEND;VALUE=DATE:20210205
SUMMARY:Council Meeting &#8211\\; 4 February 2021
DESCRIPTION:Council Meeting\nView details: https://crowmarshparishcouncil.gov.uk/meetings/council-meeting-4-february-2021/
URL:https://crowmarshparishcouncil.gov.uk/meetings/council-meeting-4-february-2021/
END:VEVENT
END:VCALENDAR
