BEGIN:VCALENDAR
VERSION:2.0
PRODID:-//Crowmarsh Parish Council//Meeting Calendar//EN
CALSCALE:GREGORIAN
METHOD:PUBLISH
BEGIN:VEVENT
UID:70737-2021-03-31@crowmarshparishcouncil.gov.uk
DTSTAMP:20260421T045825Z
DTSTART;VALUE=DATE:2021-03-31
DTEND;VALUE=DATE:20210401
SUMMARY:Council Meeting &#8211\\; 31 March 2021
DESCRIPTION:Council Meeting\nView details: https://crowmarshparishcouncil.gov.uk/meetings/council-meeting-31-march-2021/
URL:https://crowmarshparishcouncil.gov.uk/meetings/council-meeting-31-march-2021/
END:VEVENT
END:VCALENDAR
