BEGIN:VCALENDAR
VERSION:2.0
PRODID:-//Crowmarsh Parish Council//Meeting Calendar//EN
CALSCALE:GREGORIAN
METHOD:PUBLISH
BEGIN:VEVENT
UID:70736-2021-04-29@crowmarshparishcouncil.gov.uk
DTSTAMP:20260421T045836Z
DTSTART;VALUE=DATE:2021-04-29
DTEND;VALUE=DATE:20210430
SUMMARY:Council Meeting &#8211\\; 29 April 2021
DESCRIPTION:Council Meeting\nView details: https://crowmarshparishcouncil.gov.uk/meetings/council-meeting-29-april-2021/
URL:https://crowmarshparishcouncil.gov.uk/meetings/council-meeting-29-april-2021/
END:VEVENT
END:VCALENDAR
