BEGIN:VCALENDAR
VERSION:2.0
PRODID:-//Crowmarsh Parish Council//Meeting Calendar//EN
CALSCALE:GREGORIAN
METHOD:PUBLISH
BEGIN:VEVENT
UID:70734-2021-05-20@crowmarshparishcouncil.gov.uk
DTSTAMP:20260421T043858Z
DTSTART;VALUE=DATE:2021-05-20
DTEND;VALUE=DATE:20210521
SUMMARY:Annual Council Meeting &#8211\\; 20 May 2021
DESCRIPTION:Council Meeting\nView details: https://crowmarshparishcouncil.gov.uk/meetings/annual-council-meeting-20-may-2021/
URL:https://crowmarshparishcouncil.gov.uk/meetings/annual-council-meeting-20-may-2021/
END:VEVENT
END:VCALENDAR
