BEGIN:VCALENDAR
VERSION:2.0
PRODID:-//Crowmarsh Parish Council//Meeting Calendar//EN
CALSCALE:GREGORIAN
METHOD:PUBLISH
BEGIN:VEVENT
UID:70733-2021-07-01@crowmarshparishcouncil.gov.uk
DTSTAMP:20260421T062357Z
DTSTART;VALUE=DATE:2021-07-01
DTEND;VALUE=DATE:20210702
SUMMARY:Council Meeting &#8211\\; 1 July 2021
DESCRIPTION:Council Meeting\nView details: https://crowmarshparishcouncil.gov.uk/meetings/council-meeting-1-july-2021/
URL:https://crowmarshparishcouncil.gov.uk/meetings/council-meeting-1-july-2021/
END:VEVENT
END:VCALENDAR
