BEGIN:VCALENDAR
VERSION:2.0
PRODID:-//Crowmarsh Parish Council//Meeting Calendar//EN
CALSCALE:GREGORIAN
METHOD:PUBLISH
BEGIN:VEVENT
UID:70732-2021-08-05@crowmarshparishcouncil.gov.uk
DTSTAMP:20260421T062358Z
DTSTART;VALUE=DATE:2021-08-05
DTEND;VALUE=DATE:20210806
SUMMARY:Council Meeting &#8211\\; 5 August 2021
DESCRIPTION:Council Meeting\nView details: https://crowmarshparishcouncil.gov.uk/meetings/council-meeting-5-august-2021/
URL:https://crowmarshparishcouncil.gov.uk/meetings/council-meeting-5-august-2021/
END:VEVENT
END:VCALENDAR
