BEGIN:VCALENDAR
VERSION:2.0
PRODID:-//Crowmarsh Parish Council//Meeting Calendar//EN
CALSCALE:GREGORIAN
METHOD:PUBLISH
BEGIN:VEVENT
UID:70730-2021-10-07@crowmarshparishcouncil.gov.uk
DTSTAMP:20260421T062440Z
DTSTART;VALUE=DATE:2021-10-07
DTEND;VALUE=DATE:20211008
SUMMARY:Council Meeting &#8211\\; 7 October 2021
DESCRIPTION:Council Meeting\nView details: https://crowmarshparishcouncil.gov.uk/meetings/council-meeting-7-october-2021/
URL:https://crowmarshparishcouncil.gov.uk/meetings/council-meeting-7-october-2021/
END:VEVENT
END:VCALENDAR
