BEGIN:VCALENDAR
VERSION:2.0
PRODID:-//Crowmarsh Parish Council//Meeting Calendar//EN
CALSCALE:GREGORIAN
METHOD:PUBLISH
BEGIN:VEVENT
UID:70728-2021-12-02@crowmarshparishcouncil.gov.uk
DTSTAMP:20260421T075522Z
DTSTART;VALUE=DATE:2021-12-02
DTEND;VALUE=DATE:20211203
SUMMARY:Council Meeting &#8211\\; 2 December 2021
DESCRIPTION:Council Meeting\nView details: https://crowmarshparishcouncil.gov.uk/meetings/council-meeting-2-december-2021/
URL:https://crowmarshparishcouncil.gov.uk/meetings/council-meeting-2-december-2021/
END:VEVENT
END:VCALENDAR
