BEGIN:VCALENDAR
VERSION:2.0
PRODID:-//Crowmarsh Parish Council//Meeting Calendar//EN
CALSCALE:GREGORIAN
METHOD:PUBLISH
BEGIN:VEVENT
UID:70727-2022-02-03@crowmarshparishcouncil.gov.uk
DTSTAMP:20260421T074844Z
DTSTART;VALUE=DATE:2022-02-03
DTEND;VALUE=DATE:20220204
SUMMARY:Council Meeting &#8211\\; 3 February 2022
DESCRIPTION:Council Meeting\nView details: https://crowmarshparishcouncil.gov.uk/meetings/council-meeting-3-february-2022/
URL:https://crowmarshparishcouncil.gov.uk/meetings/council-meeting-3-february-2022/
END:VEVENT
END:VCALENDAR
