BEGIN:VCALENDAR
VERSION:2.0
PRODID:-//Crowmarsh Parish Council//Meeting Calendar//EN
CALSCALE:GREGORIAN
METHOD:PUBLISH
BEGIN:VEVENT
UID:70726-2022-03-03@crowmarshparishcouncil.gov.uk
DTSTAMP:20260421T074620Z
DTSTART;VALUE=DATE:2022-03-03
DTEND;VALUE=DATE:20220304
SUMMARY:Council Meeting &#8211\\; 3 March 2022
DESCRIPTION:Council Meeting\nView details: https://crowmarshparishcouncil.gov.uk/meetings/council-meeting-3-march-2022/
URL:https://crowmarshparishcouncil.gov.uk/meetings/council-meeting-3-march-2022/
END:VEVENT
END:VCALENDAR
