BEGIN:VCALENDAR
VERSION:2.0
PRODID:-//Crowmarsh Parish Council//Meeting Calendar//EN
CALSCALE:GREGORIAN
METHOD:PUBLISH
BEGIN:VEVENT
UID:70723-2022-05-05@crowmarshparishcouncil.gov.uk
DTSTAMP:20260421T031201Z
DTSTART;VALUE=DATE:2022-05-05
DTEND;VALUE=DATE:20220506
SUMMARY:Annual Council Meeting &#8211\\; 5 May 2022
DESCRIPTION:Council Meeting\nView details: https://crowmarshparishcouncil.gov.uk/meetings/annual-council-meeting-5-may-2022/
URL:https://crowmarshparishcouncil.gov.uk/meetings/annual-council-meeting-5-may-2022/
END:VEVENT
END:VCALENDAR
