BEGIN:VCALENDAR
VERSION:2.0
PRODID:-//Crowmarsh Parish Council//Meeting Calendar//EN
CALSCALE:GREGORIAN
METHOD:PUBLISH
BEGIN:VEVENT
UID:70718-2022-10-06@crowmarshparishcouncil.gov.uk
DTSTAMP:20260425T102441Z
DTSTART;VALUE=DATE:2022-10-06
DTEND;VALUE=DATE:20221007
SUMMARY:Council Meeting &#8211\\; 6 October 2022
DESCRIPTION:Council Meeting\nView details: https://crowmarshparishcouncil.gov.uk/meetings/council-meeting-6-october-2022/
URL:https://crowmarshparishcouncil.gov.uk/meetings/council-meeting-6-october-2022/
END:VEVENT
END:VCALENDAR
