BEGIN:VCALENDAR
VERSION:2.0
PRODID:-//Crowmarsh Parish Council//Meeting Calendar//EN
CALSCALE:GREGORIAN
METHOD:PUBLISH
BEGIN:VEVENT
UID:70716-2022-12-08@crowmarshparishcouncil.gov.uk
DTSTAMP:20260425T102133Z
DTSTART;VALUE=DATE:2022-12-08
DTEND;VALUE=DATE:20221209
SUMMARY:Council Meeting &#8211\\; 8 December 2022
DESCRIPTION:Council Meeting\nView details: https://crowmarshparishcouncil.gov.uk/meetings/council-meeting-8-december-2022/
URL:https://crowmarshparishcouncil.gov.uk/meetings/council-meeting-8-december-2022/
END:VEVENT
END:VCALENDAR
