BEGIN:VCALENDAR
VERSION:2.0
PRODID:-//Crowmarsh Parish Council//Meeting Calendar//EN
CALSCALE:GREGORIAN
METHOD:PUBLISH
BEGIN:VEVENT
UID:70711-2023-05-11@crowmarshparishcouncil.gov.uk
DTSTAMP:20260421T031216Z
DTSTART;VALUE=DATE:2023-05-11
DTEND;VALUE=DATE:20230512
SUMMARY:Annual Council Meeting &#8211\\; 11 May 2023
DESCRIPTION:Council Meeting\nView details: https://crowmarshparishcouncil.gov.uk/meetings/annual-council-meeting-11-may-2023/
URL:https://crowmarshparishcouncil.gov.uk/meetings/annual-council-meeting-11-may-2023/
END:VEVENT
END:VCALENDAR
