BEGIN:VCALENDAR
VERSION:2.0
PRODID:-//Crowmarsh Parish Council//Meeting Calendar//EN
CALSCALE:GREGORIAN
METHOD:PUBLISH
BEGIN:VEVENT
UID:70709-2023-07-06@crowmarshparishcouncil.gov.uk
DTSTAMP:20260421T072220Z
DTSTART;VALUE=DATE:2023-07-06
DTEND;VALUE=DATE:20230707
SUMMARY:Council Meeting &#8211\\; 6 July 2023
DESCRIPTION:Council Meeting\nView details: https://crowmarshparishcouncil.gov.uk/meetings/council-meeting-6-july-2023/
URL:https://crowmarshparishcouncil.gov.uk/meetings/council-meeting-6-july-2023/
END:VEVENT
END:VCALENDAR
