BEGIN:VCALENDAR
VERSION:2.0
PRODID:-//Crowmarsh Parish Council//Meeting Calendar//EN
CALSCALE:GREGORIAN
METHOD:PUBLISH
BEGIN:VEVENT
UID:70708-2023-08-03@crowmarshparishcouncil.gov.uk
DTSTAMP:20260421T072054Z
DTSTART;VALUE=DATE:2023-08-03
DTEND;VALUE=DATE:20230804
SUMMARY:Council Meeting &#8211\\; 3 August 2023
DESCRIPTION:Council Meeting\nView details: https://crowmarshparishcouncil.gov.uk/meetings/council-meeting-3-august-2023/
URL:https://crowmarshparishcouncil.gov.uk/meetings/council-meeting-3-august-2023/
END:VEVENT
END:VCALENDAR
