BEGIN:VCALENDAR
VERSION:2.0
PRODID:-//Crowmarsh Parish Council//Meeting Calendar//EN
CALSCALE:GREGORIAN
METHOD:PUBLISH
BEGIN:VEVENT
UID:70707-2023-09-07@crowmarshparishcouncil.gov.uk
DTSTAMP:20260421T132308Z
DTSTART;VALUE=DATE:2023-09-07
DTEND;VALUE=DATE:20230908
SUMMARY:Council Meeting &#8211\\; 7 September 2023
DESCRIPTION:Council Meeting\nView details: https://crowmarshparishcouncil.gov.uk/meetings/council-meeting-7-september-2023/
URL:https://crowmarshparishcouncil.gov.uk/meetings/council-meeting-7-september-2023/
END:VEVENT
END:VCALENDAR
