BEGIN:VCALENDAR
VERSION:2.0
PRODID:-//Crowmarsh Parish Council//Meeting Calendar//EN
CALSCALE:GREGORIAN
METHOD:PUBLISH
BEGIN:VEVENT
UID:70706-2023-10-05@crowmarshparishcouncil.gov.uk
DTSTAMP:20260421T072220Z
DTSTART;VALUE=DATE:2023-10-05
DTEND;VALUE=DATE:20231006
SUMMARY:Council Meeting &#8211\\; 5 October 2023
DESCRIPTION:Council Meeting\nView details: https://crowmarshparishcouncil.gov.uk/meetings/council-meeting-5-october-2023/
URL:https://crowmarshparishcouncil.gov.uk/meetings/council-meeting-5-october-2023/
END:VEVENT
END:VCALENDAR
