BEGIN:VCALENDAR
VERSION:2.0
PRODID:-//Crowmarsh Parish Council//Meeting Calendar//EN
CALSCALE:GREGORIAN
METHOD:PUBLISH
BEGIN:VEVENT
UID:70705-2023-11-02@crowmarshparishcouncil.gov.uk
DTSTAMP:20260421T060036Z
DTSTART;VALUE=DATE:2023-11-02
DTEND;VALUE=DATE:20231103
SUMMARY:Council Meeting &#8211\\; 2 November 2023
DESCRIPTION:Council Meeting\nView details: https://crowmarshparishcouncil.gov.uk/meetings/council-meeting-2-november-2023/
URL:https://crowmarshparishcouncil.gov.uk/meetings/council-meeting-2-november-2023/
END:VEVENT
END:VCALENDAR
