BEGIN:VCALENDAR
VERSION:2.0
PRODID:-//Crowmarsh Parish Council//Meeting Calendar//EN
CALSCALE:GREGORIAN
METHOD:PUBLISH
BEGIN:VEVENT
UID:70704-2023-12-07@crowmarshparishcouncil.gov.uk
DTSTAMP:20260421T060006Z
DTSTART;VALUE=DATE:2023-12-07
DTEND;VALUE=DATE:20231208
SUMMARY:Council Meeting &#8211\\; 7 December 2023
DESCRIPTION:Council Meeting\nView details: https://crowmarshparishcouncil.gov.uk/meetings/council-meeting-7-december-2023/
URL:https://crowmarshparishcouncil.gov.uk/meetings/council-meeting-7-december-2023/
END:VEVENT
END:VCALENDAR
