BEGIN:VCALENDAR
VERSION:2.0
PRODID:-//Crowmarsh Parish Council//Meeting Calendar//EN
CALSCALE:GREGORIAN
METHOD:PUBLISH
BEGIN:VEVENT
UID:70703-2024-02-01@crowmarshparishcouncil.gov.uk
DTSTAMP:20260421T060713Z
DTSTART;VALUE=DATE:2024-02-01
DTEND;VALUE=DATE:20240202
SUMMARY:Council Meeting &#8211\\; 1 February 2024
DESCRIPTION:Council Meeting\nView details: https://crowmarshparishcouncil.gov.uk/meetings/council-meeting-1-february-2024/
URL:https://crowmarshparishcouncil.gov.uk/meetings/council-meeting-1-february-2024/
END:VEVENT
END:VCALENDAR
