BEGIN:VCALENDAR
VERSION:2.0
PRODID:-//Crowmarsh Parish Council//Meeting Calendar//EN
CALSCALE:GREGORIAN
METHOD:PUBLISH
BEGIN:VEVENT
UID:70701-2024-04-04@crowmarshparishcouncil.gov.uk
DTSTAMP:20260421T043858Z
DTSTART;VALUE=DATE:2024-04-04
DTEND;VALUE=DATE:20240405
SUMMARY:Council Meeting &#8211\\; 4 April 2024
DESCRIPTION:Council Meeting\nView details: https://crowmarshparishcouncil.gov.uk/meetings/council-meeting-4-april-2024/
URL:https://crowmarshparishcouncil.gov.uk/meetings/council-meeting-4-april-2024/
END:VEVENT
END:VCALENDAR
