BEGIN:VCALENDAR
VERSION:2.0
PRODID:-//Crowmarsh Parish Council//Meeting Calendar//EN
CALSCALE:GREGORIAN
METHOD:PUBLISH
BEGIN:VEVENT
UID:70700-2024-05-09@crowmarshparishcouncil.gov.uk
DTSTAMP:20260421T030943Z
DTSTART;VALUE=DATE:2024-05-09
DTEND;VALUE=DATE:20240510
SUMMARY:Annual Council Meeting &#8211\\; 9 May 2024
DESCRIPTION:Council Meeting\nView details: https://crowmarshparishcouncil.gov.uk/meetings/annual-council-meeting-9-may-2024/
URL:https://crowmarshparishcouncil.gov.uk/meetings/annual-council-meeting-9-may-2024/
END:VEVENT
END:VCALENDAR
