BEGIN:VCALENDAR
VERSION:2.0
PRODID:-//Crowmarsh Parish Council//Meeting Calendar//EN
CALSCALE:GREGORIAN
METHOD:PUBLISH
BEGIN:VEVENT
UID:70699-2024-06-06@crowmarshparishcouncil.gov.uk
DTSTAMP:20260421T043801Z
DTSTART;VALUE=DATE:2024-06-06
DTEND;VALUE=DATE:20240607
SUMMARY:Council Meeting &#8211\\; 6 June 2024
DESCRIPTION:Council Meeting\nView details: https://crowmarshparishcouncil.gov.uk/meetings/council-meeting-6-june-2024/
URL:https://crowmarshparishcouncil.gov.uk/meetings/council-meeting-6-june-2024/
END:VEVENT
END:VCALENDAR
