BEGIN:VCALENDAR
VERSION:2.0
PRODID:-//Crowmarsh Parish Council//Meeting Calendar//EN
CALSCALE:GREGORIAN
METHOD:PUBLISH
BEGIN:VEVENT
UID:70696-2024-09-05@crowmarshparishcouncil.gov.uk
DTSTAMP:20260421T032725Z
DTSTART;VALUE=DATE:2024-09-05
DTEND;VALUE=DATE:20240906
SUMMARY:Council Meeting &#8211\\; 5 September 2024
DESCRIPTION:Council Meeting\nView details: https://crowmarshparishcouncil.gov.uk/meetings/council-meeting-5-september-2024/
URL:https://crowmarshparishcouncil.gov.uk/meetings/council-meeting-5-september-2024/
END:VEVENT
END:VCALENDAR
