BEGIN:VCALENDAR
VERSION:2.0
PRODID:-//Crowmarsh Parish Council//Meeting Calendar//EN
CALSCALE:GREGORIAN
METHOD:PUBLISH
BEGIN:VEVENT
UID:70695-2024-10-03@crowmarshparishcouncil.gov.uk
DTSTAMP:20260421T031110Z
DTSTART;VALUE=DATE:2024-10-03
DTEND;VALUE=DATE:20241004
SUMMARY:Council Meeting &#8211\\; 3 October 2024
DESCRIPTION:Council Meeting\nView details: https://crowmarshparishcouncil.gov.uk/meetings/council-meeting-3-october-2024/
URL:https://crowmarshparishcouncil.gov.uk/meetings/council-meeting-3-october-2024/
END:VEVENT
END:VCALENDAR
