BEGIN:VCALENDAR
VERSION:2.0
PRODID:-//Crowmarsh Parish Council//Meeting Calendar//EN
CALSCALE:GREGORIAN
METHOD:PUBLISH
BEGIN:VEVENT
UID:70694-2024-11-07@crowmarshparishcouncil.gov.uk
DTSTAMP:20260421T031104Z
DTSTART;VALUE=DATE:2024-11-07
DTEND;VALUE=DATE:20241108
SUMMARY:Council Meeting &#8211\\; 7 November 2024
DESCRIPTION:Council Meeting\nView details: https://crowmarshparishcouncil.gov.uk/meetings/council-meeting-7-november-2024/
URL:https://crowmarshparishcouncil.gov.uk/meetings/council-meeting-7-november-2024/
END:VEVENT
END:VCALENDAR
