BEGIN:VCALENDAR
VERSION:2.0
PRODID:-//Crowmarsh Parish Council//Meeting Calendar//EN
CALSCALE:GREGORIAN
METHOD:PUBLISH
BEGIN:VEVENT
UID:70693-2024-12-05@crowmarshparishcouncil.gov.uk
DTSTAMP:20260421T031242Z
DTSTART;VALUE=DATE:2024-12-05
DTEND;VALUE=DATE:20241206
SUMMARY:Council Meeting &#8211\\; 5 December 2024
DESCRIPTION:Council Meeting\nView details: https://crowmarshparishcouncil.gov.uk/meetings/council-meeting-5-december-2024/
URL:https://crowmarshparishcouncil.gov.uk/meetings/council-meeting-5-december-2024/
END:VEVENT
END:VCALENDAR
