BEGIN:VCALENDAR
VERSION:2.0
PRODID:-//Crowmarsh Parish Council//Meeting Calendar//EN
CALSCALE:GREGORIAN
METHOD:PUBLISH
BEGIN:VEVENT
UID:70691-2025-03-06@crowmarshparishcouncil.gov.uk
DTSTAMP:20260421T013725Z
DTSTART;VALUE=DATE:2025-03-06
DTEND;VALUE=DATE:20250307
SUMMARY:Council Meeting &#8211\\; 6 March 2025
DESCRIPTION:Council Meeting\nView details: https://crowmarshparishcouncil.gov.uk/meetings/council-meeting-6-march-2025/
URL:https://crowmarshparishcouncil.gov.uk/meetings/council-meeting-6-march-2025/
END:VEVENT
END:VCALENDAR
