BEGIN:VCALENDAR
VERSION:2.0
PRODID:-//Crowmarsh Parish Council//Meeting Calendar//EN
CALSCALE:GREGORIAN
METHOD:PUBLISH
BEGIN:VEVENT
UID:70690-2025-04-03@crowmarshparishcouncil.gov.uk
DTSTAMP:20260421T014848Z
DTSTART;VALUE=DATE:2025-04-03
DTEND;VALUE=DATE:20250404
SUMMARY:Council Meeting &#8211\\; 3 April 2025
DESCRIPTION:Council Meeting\nView details: https://crowmarshparishcouncil.gov.uk/meetings/council-meeting-3-april-2025/
URL:https://crowmarshparishcouncil.gov.uk/meetings/council-meeting-3-april-2025/
END:VEVENT
END:VCALENDAR
