BEGIN:VCALENDAR
VERSION:2.0
PRODID:-//Crowmarsh Parish Council//Meeting Calendar//EN
CALSCALE:GREGORIAN
METHOD:PUBLISH
BEGIN:VEVENT
UID:70689-2025-05-08@crowmarshparishcouncil.gov.uk
DTSTAMP:20260421T031058Z
DTSTART;VALUE=DATE:2025-05-08
DTEND;VALUE=DATE:20250509
SUMMARY:Annual Council Meeting &#8211\\; 8 May 2025
DESCRIPTION:Council Meeting\nView details: https://crowmarshparishcouncil.gov.uk/meetings/annual-council-meeting-8-may-2025/
URL:https://crowmarshparishcouncil.gov.uk/meetings/annual-council-meeting-8-may-2025/
END:VEVENT
END:VCALENDAR
