BEGIN:VCALENDAR
VERSION:2.0
PRODID:-//Crowmarsh Parish Council//Meeting Calendar//EN
CALSCALE:GREGORIAN
METHOD:PUBLISH
BEGIN:VEVENT
UID:70688-2025-06-05@crowmarshparishcouncil.gov.uk
DTSTAMP:20260421T014848Z
DTSTART;VALUE=DATE:2025-06-05
DTEND;VALUE=DATE:20250606
SUMMARY:Council Meeting &#8211\\; 5 June 2025
DESCRIPTION:Council Meeting\nView details: https://crowmarshparishcouncil.gov.uk/meetings/council-meeting-5-june-2025/
URL:https://crowmarshparishcouncil.gov.uk/meetings/council-meeting-5-june-2025/
END:VEVENT
END:VCALENDAR
