BEGIN:VCALENDAR
VERSION:2.0
PRODID:-//Crowmarsh Parish Council//Meeting Calendar//EN
CALSCALE:GREGORIAN
METHOD:PUBLISH
BEGIN:VEVENT
UID:70686-2025-08-07@crowmarshparishcouncil.gov.uk
DTSTAMP:20260421T001525Z
DTSTART;VALUE=DATE:2025-08-07
DTEND;VALUE=DATE:20250808
SUMMARY:Council Meeting &#8211\\; 7 August 2025
DESCRIPTION:Council Meeting\nView details: https://crowmarshparishcouncil.gov.uk/meetings/council-meeting-7-august-2025/
URL:https://crowmarshparishcouncil.gov.uk/meetings/council-meeting-7-august-2025/
END:VEVENT
END:VCALENDAR
