BEGIN:VCALENDAR
VERSION:2.0
PRODID:-//Crowmarsh Parish Council//Meeting Calendar//EN
CALSCALE:GREGORIAN
METHOD:PUBLISH
BEGIN:VEVENT
UID:70685-2025-09-04@crowmarshparishcouncil.gov.uk
DTSTAMP:20260421T001542Z
DTSTART;VALUE=DATE:2025-09-04
DTEND;VALUE=DATE:20250905
SUMMARY:Council Meeting &#8211\\; 4 September 2025
DESCRIPTION:Council Meeting\nView details: https://crowmarshparishcouncil.gov.uk/meetings/council-meeting-4-september-2025/
URL:https://crowmarshparishcouncil.gov.uk/meetings/council-meeting-4-september-2025/
END:VEVENT
END:VCALENDAR
