BEGIN:VCALENDAR
VERSION:2.0
PRODID:-//Crowmarsh Parish Council//Meeting Calendar//EN
CALSCALE:GREGORIAN
METHOD:PUBLISH
BEGIN:VEVENT
UID:70684-2025-10-02@crowmarshparishcouncil.gov.uk
DTSTAMP:20260421T001542Z
DTSTART;VALUE=DATE:2025-10-02
DTEND;VALUE=DATE:20251003
SUMMARY:Council Meeting &#8211\\; 2 October 2025
DESCRIPTION:Council Meeting\nView details: https://crowmarshparishcouncil.gov.uk/meetings/council-meeting-2-october-2025/
URL:https://crowmarshparishcouncil.gov.uk/meetings/council-meeting-2-october-2025/
END:VEVENT
END:VCALENDAR
