BEGIN:VCALENDAR
VERSION:2.0
PRODID:-//Crowmarsh Parish Council//Meeting Calendar//EN
CALSCALE:GREGORIAN
METHOD:PUBLISH
BEGIN:VEVENT
UID:70681-2026-02-05@crowmarshparishcouncil.gov.uk
DTSTAMP:20260420T225827Z
DTSTART;VALUE=DATE:2026-02-05
DTEND;VALUE=DATE:20260206
SUMMARY:Council Meeting &#8211\\; 5 February 2026
DESCRIPTION:Council Meeting\nView details: https://crowmarshparishcouncil.gov.uk/meetings/council-meeting-5-february-2026/
URL:https://crowmarshparishcouncil.gov.uk/meetings/council-meeting-5-february-2026/
END:VEVENT
END:VCALENDAR
