BEGIN:VCALENDAR
VERSION:2.0
PRODID:-//Crowmarsh Parish Council//Meeting Calendar//EN
CALSCALE:GREGORIAN
METHOD:PUBLISH
BEGIN:VEVENT
UID:70680-2026-03-05@crowmarshparishcouncil.gov.uk
DTSTAMP:20260420T231314Z
DTSTART;VALUE=DATE:2026-03-05
DTEND;VALUE=DATE:20260306
SUMMARY:Council Meeting &#8211\\; 5 March 2026
DESCRIPTION:Council Meeting\nView details: https://crowmarshparishcouncil.gov.uk/meetings/council-meeting-5-march-2026/
URL:https://crowmarshparishcouncil.gov.uk/meetings/council-meeting-5-march-2026/
END:VEVENT
END:VCALENDAR
